BEGIN:VCALENDAR
VERSION:2.0
PRODID:-//Strokestown Park - ECPv6.15.18//NONSGML v1.0//EN
CALSCALE:GREGORIAN
METHOD:PUBLISH
X-ORIGINAL-URL:https://strokestownpark.ie
X-WR-CALDESC:Events for Strokestown Park
REFRESH-INTERVAL;VALUE=DURATION:PT1H
X-Robots-Tag:noindex
X-PUBLISHED-TTL:PT1H
BEGIN:VTIMEZONE
TZID:Europe/Dublin
BEGIN:STANDARD
TZOFFSETFROM:+0000
TZOFFSETTO:+0100
TZNAME:IST
DTSTART:20240331T010000
END:STANDARD
BEGIN:DAYLIGHT
TZOFFSETFROM:+0100
TZOFFSETTO:+0000
TZNAME:GMT
DTSTART:20241027T010000
END:DAYLIGHT
BEGIN:STANDARD
TZOFFSETFROM:+0000
TZOFFSETTO:+0100
TZNAME:IST
DTSTART:20250330T010000
END:STANDARD
BEGIN:DAYLIGHT
TZOFFSETFROM:+0100
TZOFFSETTO:+0000
TZNAME:GMT
DTSTART:20251026T010000
END:DAYLIGHT
BEGIN:STANDARD
TZOFFSETFROM:+0000
TZOFFSETTO:+0100
TZNAME:IST
DTSTART:20260329T010000
END:STANDARD
BEGIN:DAYLIGHT
TZOFFSETFROM:+0100
TZOFFSETTO:+0000
TZNAME:GMT
DTSTART:20261025T010000
END:DAYLIGHT
END:VTIMEZONE
BEGIN:VEVENT
DTSTART;VALUE=DATE:20250529
DTEND;VALUE=DATE:20250602
DTSTAMP:20260423T232453
CREATED:20230316T114330Z
LAST-MODIFIED:20250523T133325Z
UID:10000037-1748476800-1748822399@strokestownpark.ie
SUMMARY:Famine Summer School Programme 2025
DESCRIPTION:  \n \n  \nBook Your Ticket.
URL:https://strokestownpark.ie/event/famine-summer-school-programe-2025/
LOCATION:National Famine Museum
CATEGORIES:Featured
ATTACH;FMTTYPE=image/jpeg:https://strokestownpark.ie/wp-content/uploads/sites/2/2024/11/Banner-image-on-website-2.jpg
END:VEVENT
BEGIN:VEVENT
DTSTART;TZID=Europe/Dublin:20250530T190000
DTEND;TZID=Europe/Dublin:20250530T200000
DTSTAMP:20260423T232453
CREATED:20250522T092636Z
LAST-MODIFIED:20250530T104804Z
UID:10000107-1748631600-1748635200@strokestownpark.ie
SUMMARY:In Solidarity - Irish Famine Summer School 2025
DESCRIPTION:  \nSOLD OUT – Thank you to everyone for supporting this event. \n  \nAs part of the Irish Famine Summer School 2025\, the National Famine Museum | Strokestown Park\, co funded by the Roscommon County Council Creative Ireland Programme and the Irish Language Office is proud to present ‘In Solidarity’\, a series of performances by Palestinian and Irish artists set against the back drop of the Irish National Famine Museum. \n‘In Solidarity’ will highlight the deep solidarity of Ireland with Palestine\, rooted in our shared experience of colonial oppression and how artistic expression is one of the foremost tools used in the communication of identity\, thoughts and emotions. \nThe audience for this event will be guided through the National Famine Museum where they will experience intimate performances and collaborations between the following performers. \nPalestinian Artists: \nTalha Wise Wolf – Rap & Spoken Word \nTuqa Al – Sarraj – Visual Artist & Filmmaker \nIrish Artists:  \nCathal Póirtéir – Poet \nSorcha Fox – Poet \nBlue Niall – Rap & Spoken Word \nIarla Ó Mhuirthile – Sean Nos Singer & Piper \nJohn Carty – Fiddle & Banjo Player \nClodagh Mc Caffrey – Dancer \nAoife Hammond – Singer \nSteve Finnerry – Bouzouki \nWe are delighted also to have Dr. Eamonn Mc Kee\, Chief of Protocol with the Department of Foreign Affairs\, speak at this event. Dr. Mc Kee has been a key figure in international diplomacy and conflict resolution for nearly 40 years. \nLimited tickets are available for this event\, therefore advanced booking is essential. \nImportant Information:  \n\nThis is primarily a standing event.\nThe event is accessible.\nSensitive subject matter will be expressed during this event.\nFlash photography is not permitted.\n\n 
URL:https://strokestownpark.ie/event/in-solidarity-irish-famine-summer-school-2025/
ATTACH;FMTTYPE=image/png:https://strokestownpark.ie/wp-content/uploads/sites/2/2025/05/FUNFEST-Website-Image-1.png
END:VEVENT
END:VCALENDAR