BEGIN:VCALENDAR
VERSION:2.0
PRODID:-//Strokestown Park - ECPv6.15.18//NONSGML v1.0//EN
CALSCALE:GREGORIAN
METHOD:PUBLISH
X-ORIGINAL-URL:https://strokestownpark.ie
X-WR-CALDESC:Events for Strokestown Park
REFRESH-INTERVAL;VALUE=DURATION:PT1H
X-Robots-Tag:noindex
X-PUBLISHED-TTL:PT1H
BEGIN:VTIMEZONE
TZID:Europe/Dublin
BEGIN:STANDARD
TZOFFSETFROM:+0000
TZOFFSETTO:+0100
TZNAME:IST
DTSTART:20240331T010000
END:STANDARD
BEGIN:DAYLIGHT
TZOFFSETFROM:+0100
TZOFFSETTO:+0000
TZNAME:GMT
DTSTART:20241027T010000
END:DAYLIGHT
BEGIN:STANDARD
TZOFFSETFROM:+0000
TZOFFSETTO:+0100
TZNAME:IST
DTSTART:20250330T010000
END:STANDARD
BEGIN:DAYLIGHT
TZOFFSETFROM:+0100
TZOFFSETTO:+0000
TZNAME:GMT
DTSTART:20251026T010000
END:DAYLIGHT
BEGIN:STANDARD
TZOFFSETFROM:+0000
TZOFFSETTO:+0100
TZNAME:IST
DTSTART:20260329T010000
END:STANDARD
BEGIN:DAYLIGHT
TZOFFSETFROM:+0100
TZOFFSETTO:+0000
TZNAME:GMT
DTSTART:20261025T010000
END:DAYLIGHT
END:VTIMEZONE
BEGIN:VEVENT
DTSTART;TZID=Europe/Dublin:20250607T120000
DTEND;TZID=Europe/Dublin:20250607T170000
DTSTAMP:20260424T054111
CREATED:20240522T111843Z
LAST-MODIFIED:20250604T134557Z
UID:10000077-1749297600-1749315600@strokestownpark.ie
SUMMARY:FunFest - Creativity At Play
DESCRIPTION:Date: Saturday\, June 7th \nTime: 12:00 PM – 5:00 PM \nLocation: Walled Gardens\, Strokestown Park\, Co. Roscommon \nBooking Information: FREE ENTRY. Advanced Booking Required. Register here. \nDescription: \nJoin us for FUNFEST ‘Creativity At Play’ taking place in the beautiful Walled Gardens of Strokestown Park as part of Cruinniú na nÓg 2025. This vibrant children’s festival celebrates creativity\, play\, self-expression\, and inspiration. Families and children aged 0 -12 years are invited to dive into a wonderland of fun and creativity. \n \n**Festival Highlights** \nMagic Shows with RTE Jr’s ‘Joe The Magician’ \nPuppet Shows by Custard Pie Puppet Theatre \nKids Rock – Live Music \nPlay & Creativity Zone hosted by Discovery Playtime. \nDance Parties hosted by DAS Academy \nBaby & Toddler Music Sessions with Ready Steady Play \nSports Activities with Roscommon Sports Partnership \nFace Painting & Balloon Modelling by Fierce Fun Faces \n  \nPre Book Workshops \n\nExpressive Movement in Nature \nStrokestown Park Woodlands\n12.30pm – 1.30pm\nLimited Availability – Advanced Booking Required \n\nLearn how to move and how to be still in nature. Express yourself with creative movements amongst the ancient trees\, using some fun props!  Then practice being still.\n\n\n\n\nLego Team Building\nWoodland Café Event Space\n2.30pm\, 4pm\n*Suitable for children aged 5yrs +\nLimited Availability – Advanced Booking Required\n\nMeet new people and work in a team building creative Lego scenes. Practice turn-taking\, collaboration\, sharing and negotiation.  We look forward to meeting our Master Builders!\n\n\n\n\n\n\n\nDAS Drama Workshops\nCroquet Lawn\n1pm\, 3pm\n*Suitable for children aged 7yrs +\nLimited Availability – Advanced Booking Required\n\n\n  \nAdditional Information \nInclusivity:\nFUNFEST is committed to ensuring inclusivity and accessibility for all. A Sensory Zone will be available for children who need a quiet space to relax and recharge. \nFood & Beverage:\nA variety of food and beverage vendors will be on-site to keep you refreshed and energized throughout the day. \nImportant Information:\n– Gates open at 12:00 PM and close at 5:00 PM.\n– While the event is free\, advance registration is required.\n– Children must be accompanied by an adult.\n– Videography and photography will be taking place at the event. \nDon’t miss out on this fun and creative day for the whole family! \nMore events at Strokestown Park here \nFunFest is supported by Roscommon County Council\, Cruinniú an nÓg Programme 2025. \n 
URL:https://strokestownpark.ie/event/funfest-creativity-at-play/
LOCATION:Strokestown Park
ATTACH;FMTTYPE=image/png:https://strokestownpark.ie/wp-content/uploads/sites/2/2024/05/FUNFEST-Website-Image.png
END:VEVENT
END:VCALENDAR