BEGIN:VCALENDAR
VERSION:2.0
PRODID:-//Strokestown Park - ECPv6.15.18//NONSGML v1.0//EN
CALSCALE:GREGORIAN
METHOD:PUBLISH
X-ORIGINAL-URL:https://strokestownpark.ie
X-WR-CALDESC:Events for Strokestown Park
REFRESH-INTERVAL;VALUE=DURATION:PT1H
X-Robots-Tag:noindex
X-PUBLISHED-TTL:PT1H
BEGIN:VTIMEZONE
TZID:Europe/Dublin
BEGIN:STANDARD
TZOFFSETFROM:+0000
TZOFFSETTO:+0100
TZNAME:IST
DTSTART:20240331T010000
END:STANDARD
BEGIN:DAYLIGHT
TZOFFSETFROM:+0100
TZOFFSETTO:+0000
TZNAME:GMT
DTSTART:20241027T010000
END:DAYLIGHT
BEGIN:STANDARD
TZOFFSETFROM:+0000
TZOFFSETTO:+0100
TZNAME:IST
DTSTART:20250330T010000
END:STANDARD
BEGIN:DAYLIGHT
TZOFFSETFROM:+0100
TZOFFSETTO:+0000
TZNAME:GMT
DTSTART:20251026T010000
END:DAYLIGHT
BEGIN:STANDARD
TZOFFSETFROM:+0000
TZOFFSETTO:+0100
TZNAME:IST
DTSTART:20260329T010000
END:STANDARD
BEGIN:DAYLIGHT
TZOFFSETFROM:+0100
TZOFFSETTO:+0000
TZNAME:GMT
DTSTART:20261025T010000
END:DAYLIGHT
END:VTIMEZONE
BEGIN:VEVENT
DTSTART;TZID=Europe/Dublin:20251122T130000
DTEND;TZID=Europe/Dublin:20251122T140000
DTSTAMP:20260421T193724
CREATED:20251113T160818Z
LAST-MODIFIED:20251113T163741Z
UID:10000129-1763816400-1763820000@strokestownpark.ie
SUMMARY:Festive Guided Tour of Strokestown Park House
DESCRIPTION:  \n✨ Festive Guided Tour of Strokestown Park House\n\nSaturday\, 22nd November at 1pm \nStep into the magic of Christmas past with a special festive tour of Strokestown Park House. Discover the charm of this magnificent Palladian mansion\, beautifully adorned for the holiday season. \nHear how the residents once celebrated Christmas — from sumptuous dinners in the grand dining room to cosy gatherings in the elegant library. \nYou’ll also learn about the Victorian traditions that shaped Christmas celebrations at Strokestown Park in the late 1800s — customs that continue to inspire today’s beloved Victorian Christmas Experience at Strokestown Park. \n 
URL:https://strokestownpark.ie/event/festive-guided-tour-strokestown-park-house/
ATTACH;FMTTYPE=image/png:https://strokestownpark.ie/wp-content/uploads/sites/2/2025/11/Event-Festive-Guided-Tour.png
END:VEVENT
END:VCALENDAR