BEGIN:VCALENDAR
VERSION:2.0
PRODID:-//Strokestown Park - ECPv6.15.18//NONSGML v1.0//EN
CALSCALE:GREGORIAN
METHOD:PUBLISH
X-WR-CALNAME:Strokestown Park
X-ORIGINAL-URL:https://strokestownpark.ie
X-WR-CALDESC:Events for Strokestown Park
REFRESH-INTERVAL;VALUE=DURATION:PT1H
X-Robots-Tag:noindex
X-PUBLISHED-TTL:PT1H
BEGIN:VTIMEZONE
TZID:Europe/Dublin
BEGIN:STANDARD
TZOFFSETFROM:+0000
TZOFFSETTO:+0100
TZNAME:IST
DTSTART:20230326T010000
END:STANDARD
BEGIN:DAYLIGHT
TZOFFSETFROM:+0100
TZOFFSETTO:+0000
TZNAME:GMT
DTSTART:20231029T010000
END:DAYLIGHT
BEGIN:STANDARD
TZOFFSETFROM:+0000
TZOFFSETTO:+0100
TZNAME:IST
DTSTART:20240331T010000
END:STANDARD
BEGIN:DAYLIGHT
TZOFFSETFROM:+0100
TZOFFSETTO:+0000
TZNAME:GMT
DTSTART:20241027T010000
END:DAYLIGHT
BEGIN:STANDARD
TZOFFSETFROM:+0000
TZOFFSETTO:+0100
TZNAME:IST
DTSTART:20250330T010000
END:STANDARD
BEGIN:DAYLIGHT
TZOFFSETFROM:+0100
TZOFFSETTO:+0000
TZNAME:GMT
DTSTART:20251026T010000
END:DAYLIGHT
BEGIN:STANDARD
TZOFFSETFROM:+0000
TZOFFSETTO:+0100
TZNAME:IST
DTSTART:20260329T010000
END:STANDARD
BEGIN:DAYLIGHT
TZOFFSETFROM:+0100
TZOFFSETTO:+0000
TZNAME:GMT
DTSTART:20261025T010000
END:DAYLIGHT
END:VTIMEZONE
BEGIN:VEVENT
DTSTART;TZID=Europe/Dublin:20240908T180000
DTEND;TZID=Europe/Dublin:20240908T213000
DTSTAMP:20260422T023100
CREATED:20240711T120421Z
LAST-MODIFIED:20240729T111523Z
UID:10000081-1725818400-1725831000@strokestownpark.ie
SUMMARY:21st Century ABBA Tribute
DESCRIPTION:  \n21st Century ABBA Tribute \nBook your tickets here \nJoin us in Strokestown Park for the 21st Century ABBA Tribute’s faithful recreation of ABBA’s signature harmonies and iconic looks\, making for one electrifying live performance. \nExpect to hear all of ABBA’s greatest hits\, including Dancing Queen\, Mamma Mia\, Waterloo\, and many more! Decked out in full disco costume\, 21st Century ABBA Tribute combines stunning vocals\, talented live musicians\, and a uniquely beautiful outdoor setting to make one unforgettable concert. \nCome along with family and friends\, picnic in picturesque surroundings before grabbing your dancing shoes\, and get ready for the party of a lifetime at Strokestown Park! \nOutdoor performances will continue in all but the worst of weather\, be sure to dress accordingly. \nThis is a two-and-a-half-hour performance including an interval. \nAll tickets are non-refundable. In the event of cancellation due to exceptionally bad weather or other extenuating circumstances\, alternative arrangements shall be made. \nGates Open\, at 6 pm | Show Begins\, at 7 pm \nBook your tickets here
URL:https://strokestownpark.ie/event/21st-century-abba-tribute/
LOCATION:Strokestown Park
CATEGORIES:Featured
ATTACH;FMTTYPE=image/png:https://strokestownpark.ie/wp-content/uploads/sites/2/2024/07/ABBA-Square-title.png
END:VEVENT
BEGIN:VEVENT
DTSTART;TZID=Europe/Dublin:20241006T120000
DTEND;TZID=Europe/Dublin:20241006T170000
DTSTAMP:20260422T023100
CREATED:20240909T084347Z
LAST-MODIFIED:20240927T144556Z
UID:10000090-1728216000-1728234000@strokestownpark.ie
SUMMARY:The Irish Heritage Trust 'Autumn Garden Fête'
DESCRIPTION:  \nJoin us at our Autumn Fête on Sunday October 6th from 12pm to 5pm\, where age becomes irrelevant and intergenerational bonds are formed amidst our shared heritage. \nEvents Programme: \n  \n12pm: Autumn in The Garden Tour with General Manager John O’Driscoll \n*Limited Capacity\, registration in advance advised by calling our Visitor Services Reception on 0719633013* \n1pm: Autumnal Ecotherapy Walk with Marianne Fallon [Chartered Health Psychologist and Ecotherapist] \n*Limited Capacity\, registration in advance advised by calling our Visitor Services Reception on 0719633013* \nJoin Marianne\, for another Woodland Wellbeing Walk during our Autumn Fête. \nMarianne will guide you through a number of meditations amongst the trees reflecting on themes inspired by this liminal time between the Autumn Equinox and Samhain.  This is a time of letting go after the gathering of the Harvest during Lughnasa. \nAn introduction to Dan Tian Meditation & Breathwork and reflections from Buddhist Psychology will form part of the walk. \nBe prepared to be on your feet walking or standing for approx one hour. Wear clothing suitable for the expected weather and good walking shoes with good grips. \n1pm – 3pm: Live Music with Black Bank Folk\, Venue Vaulted Stables Courtyard. \nThe band bring together a plethora of musical influences from Indie rock and Americana to Irish folk and traditional. Something for all tastes! \n3pm: Strokestown House Gallery Kitchen Interpretation Tour with General Manager John O’Driscoll \n*Limited Capacity\, registration in advance advised by calling our Visitor Services Reception on 0719633013* \n__________________________________________ \nAll day events: \n  \nScarecrow Making – Walled Garden’s  \nJoin our volunteers in the Walled Garden’s to Make & Name A Scarecrow\, who will call our Garden its home for the Autumn. This is a drop in activity that will run throughout the day. A great activity for the whole family! \nFamily Scavenger Hunt – Woodland & Walled Garden’s \nPick up a map from our Visitor Reception and complete our intergenerational family scavenger hunt. \nSundew Crafts – Vaulted Stables \nFiona O’Driscoll of Sundew Crafts will be facilitating drop in workshops for all ages between 1pm to 4pm \n\nThe Autumn Fête is gratefully part funded by Roscommon County Council Arts Office under the Cultural Companions Programme through the Creative Ireland Programme. \nClick here to book tickets \nFull calendar of events here  \n\n			\n				\n			\n			\n				\n			\n		\n\nStrokestown Park Autumn Fete is part of the Cultural Companions Programme supported by Creative Ireland\, Creativity in Older Age Funding\, delivered by Roscommon County Council. \n 
URL:https://strokestownpark.ie/event/autumn-fete-2/
LOCATION:Strokestown Park
CATEGORIES:Featured
ATTACH;FMTTYPE=image/png:https://strokestownpark.ie/wp-content/uploads/sites/2/2024/09/Autumn-fete-2024.png
END:VEVENT
BEGIN:VEVENT
DTSTART;TZID=Europe/Dublin:20250228T200000
DTEND;TZID=Europe/Dublin:20250228T213000
DTSTAMP:20260422T023100
CREATED:20250123T134029Z
LAST-MODIFIED:20250217T140742Z
UID:10000101-1740772800-1740778200@strokestownpark.ie
SUMMARY:George Murphy Folk Singer & Musician
DESCRIPTION:  \nJoin us on Friday 28th February for an intimate evening of music and songs in our Woodland Café with renowned folk singer and balladeer George Murphy\, who will be accompanied by fiddle player Sean Regan. \nGeorge Murphy exploded onto the Irish music scene after his memorable appearances on the Irish television show “You’re a Star”. Just out of secondary school at the age of 17 he very quickly took over the Irish music scene\, signing to Sony Ireland for his debut album ‘Dreamed A Dream’ which went straight to No.1 in the Irish charts. His unique and emotive voice captured the nation and still does. \nGeorge will be accompanied by the prolific fiddle player Sean Regan who has toured the world with iconic Irish musicians such as Sharon Shannon\, Finbar Furey\, Damien Dempsey\, Sean Keane\, Sinead O’Connor\, Daniel O’Donnell and many more. \nDoors to this event open at 7.30pm. Tickets €25.00\, Irish Heritage Trust Members €23.00. \nFor further information and booking click here. \nTo learn more about membership options and benefits\, click here. \nFor more events at Strokestown Park click here
URL:https://strokestownpark.ie/event/george-murphy-folk-singer-musician/
CATEGORIES:Featured
ATTACH;FMTTYPE=image/png:https://strokestownpark.ie/wp-content/uploads/sites/2/2025/01/George-Website-Image-1.png
END:VEVENT
BEGIN:VEVENT
DTSTART;VALUE=DATE:20250529
DTEND;VALUE=DATE:20250602
DTSTAMP:20260422T023100
CREATED:20230316T114330Z
LAST-MODIFIED:20250523T133325Z
UID:10000037-1748476800-1748822399@strokestownpark.ie
SUMMARY:Famine Summer School Programme 2025
DESCRIPTION:  \n \n  \nBook Your Ticket.
URL:https://strokestownpark.ie/event/famine-summer-school-programe-2025/
LOCATION:National Famine Museum
CATEGORIES:Featured
ATTACH;FMTTYPE=image/jpeg:https://strokestownpark.ie/wp-content/uploads/sites/2/2024/11/Banner-image-on-website-2.jpg
END:VEVENT
BEGIN:VEVENT
DTSTART;VALUE=DATE:20251129
DTEND;VALUE=DATE:20251223
DTSTAMP:20260422T023100
CREATED:20250905T105633Z
LAST-MODIFIED:20251220T174146Z
UID:10000097-1764374400-1766447999@strokestownpark.ie
SUMMARY:Victorian Christmas Experience 2025
DESCRIPTION:****This event is now SOLD OUT**** \nThe Victorian Christmas Experience is set in our Palladian Mansion\, Strokestown Park\, Co. Roscommon\, where the traditional charm and luxury of this era is reimagined\, in an immersive\, magical\, fun and interactive experience for all ages. \n \n \n \nExperience Dates \nNovember 29th & 30th (Saturday & Sunday) \nDecember 5th\, 6th & 7th (Friday\, Saturday & Sunday) \nDecember 12th\, 13th & 14th (Friday\, Saturday & Sunday) \nDecember 19th\, 20th\, 21st & 22nd (Friday\, Saturday\, Sunday & Monday) *Premium Weekend* \n__________________________________________ \nThere is an option to book a professional family portrait with Santa\, which is NOT included in your ticket. \nThis photo option can be pre booked online or purchased on the day\, along with some other quality festive mementos of the day. \nFor further information contact (071) 96 33013 or email events@strokestownpark.ie. \n__________________________________________ \nChanges to Service \nIn exceptional circumstances it may be necessary at times to change the details or itinerary of the event or a booking. The Company reserves the right to make reasonable alterations to any booking made. In this event the Company will inform the Customer as soon as reasonably possible. This does not affect your statutory rights. \n 
URL:https://strokestownpark.ie/event/victorian-christmas-experience/
LOCATION:Strokestown House
CATEGORIES:Featured
ATTACH;FMTTYPE=image/png:https://strokestownpark.ie/wp-content/uploads/sites/2/2024/10/Victorian-Christmas-website-image.png
END:VEVENT
END:VCALENDAR