BEGIN:VCALENDAR
VERSION:2.0
PRODID:-//Strokestown Park - ECPv6.15.18//NONSGML v1.0//EN
CALSCALE:GREGORIAN
METHOD:PUBLISH
X-ORIGINAL-URL:https://strokestownpark.ie
X-WR-CALDESC:Events for Strokestown Park
REFRESH-INTERVAL;VALUE=DURATION:PT1H
X-Robots-Tag:noindex
X-PUBLISHED-TTL:PT1H
BEGIN:VTIMEZONE
TZID:Europe/Dublin
BEGIN:STANDARD
TZOFFSETFROM:+0000
TZOFFSETTO:+0100
TZNAME:IST
DTSTART:20250330T010000
END:STANDARD
BEGIN:DAYLIGHT
TZOFFSETFROM:+0100
TZOFFSETTO:+0000
TZNAME:GMT
DTSTART:20251026T010000
END:DAYLIGHT
BEGIN:STANDARD
TZOFFSETFROM:+0000
TZOFFSETTO:+0100
TZNAME:IST
DTSTART:20260329T010000
END:STANDARD
BEGIN:DAYLIGHT
TZOFFSETFROM:+0100
TZOFFSETTO:+0000
TZNAME:GMT
DTSTART:20261025T010000
END:DAYLIGHT
BEGIN:STANDARD
TZOFFSETFROM:+0000
TZOFFSETTO:+0100
TZNAME:IST
DTSTART:20270328T010000
END:STANDARD
BEGIN:DAYLIGHT
TZOFFSETFROM:+0100
TZOFFSETTO:+0000
TZNAME:GMT
DTSTART:20271031T010000
END:DAYLIGHT
END:VTIMEZONE
BEGIN:VEVENT
DTSTART;VALUE=DATE:20260516
DTEND;VALUE=DATE:20260517
DTSTAMP:20260423T000257
CREATED:20260421T102914Z
LAST-MODIFIED:20260421T105739Z
UID:10000139-1778889600-1778975999@strokestownpark.ie
SUMMARY:National Famine Way Remembrance Walk
DESCRIPTION:  \nWould you like to walk the National Famine Way? \nThe National Famine Way Remembrance Walk is a nine-day\, supported commemorative journey retracing the 165 km historic route followed in 1847 by the 1\,490 men\, women and children who were marched from Strokestown to Dublin as part of assisted emigration during the Famine. \nThis is a structured and dignified act of reflection\, crossing six counties from the west of Ireland to the east. The route follows mostly flat terrain\, winding through quiet countryside\, canal towpaths and historic towns and villages along the Royal Canal Greenway. \nThe walk begins with a traditional Canadian Wake on the 16th May at 7pm in the Vaulted Stables at Strokestown Park \, a farewell gathering once held for Irish emigrants leaving for North America. All are welcome to attend the Canadian Wake. \nThe Canadian Wake will feature music\, storytelling and a moment of reflection as we remember those who made the journey before us. \nThe Remembrance Walk will conclude with a Completion Ceremony held at EPIC The Irish Emigration Museum in Dublin\, symbolically linking departure and arrival. \n***Participants may walk the full route or selected sections with local events and community engagement taking place along the trail.*** \nHow to Take Part\nYou can take part in a way that suits you: \nWalk the Full Route\nJoin the complete eight-day walking journey and take part in the full commemorative experience from Strokestown to Dublin. \nJoin for a Day or Section\nTake part in selected days along the route and experience the walk within your own time and pace. \nWhat to Expect\n\nDaily walks of approximately 18–25km\nA mostly flat\, accessible route\nShort historical insights shared along the way\nOpportunities to connect with local communities\nInformal evening gathering points with music and reflection\n\nThis is not a sporting challenge\, but a shared and reflective experience grounded in history and place. \n 
URL:https://strokestownpark.ie/event/national-famine-way-remembrance-walk/
LOCATION:Strokestown Park
ATTACH;FMTTYPE=image/png:https://strokestownpark.ie/wp-content/uploads/sites/2/2026/04/Remembrance-Walk.png
END:VEVENT
BEGIN:VEVENT
DTSTART;TZID=Europe/Dublin:20260516T190000
DTEND;TZID=Europe/Dublin:20260516T203000
DTSTAMP:20260423T000257
CREATED:20260421T111803Z
LAST-MODIFIED:20260421T112207Z
UID:10000140-1778958000-1778963400@strokestownpark.ie
SUMMARY:Canadian Wake
DESCRIPTION:  \nCanadian Wake\nJoin us at Strokestown Park on the 16th May at 7pm for a traditional Canadian Wake\, a farewell gathering once held for Irish emigrants leaving for North America. \nThis Canadian Wake is being held on the eve of the National Famine Way Remembrance Walk starting on the 17th of May. \nThe evening will feature music\, storytelling and a moment of reflection as we remember those who made the journey before us. \n***This is a Free Event\, all are welcome to attend*** \nThe Canadian Wake will be held in the Vaulted Stables at Strokestown Park. 
URL:https://strokestownpark.ie/event/canadian-wake-strokestown-park-national-famine-way-remembrance-walk/
LOCATION:Vaulted Stables\, Strokestown Park
ATTACH;FMTTYPE=image/png:https://strokestownpark.ie/wp-content/uploads/sites/2/2026/04/Canadian-Wake.png
END:VEVENT
BEGIN:VEVENT
DTSTART;VALUE=DATE:20260729
DTEND;VALUE=DATE:20260731
DTSTAMP:20260423T000257
CREATED:20260304T134400Z
LAST-MODIFIED:20260304T144107Z
UID:10000136-1785283200-1785455999@strokestownpark.ie
SUMMARY:Rooted & Growing Conference
DESCRIPTION:  \nA Conference of Nature Connections\n  \nRooted & Growing is a community gathering to showcase nature-based interventions within the West and North West of Ireland. It will provide a forum to discuss an emerging vision of nature connections to support health and social care outcomes. \nRooted & Growing has been created by a small group of psychologists\, community workers\, researchers and artists that are passionate about the role of nature connections in their work and personal life. \nThis gathering is committed to highlighting the research base and clinical experiences of positive biopsychosocial outcomes for nature-based interventions. It aims to build a network to support the further development of nature connection projects for all in community\, including those living within health and social care settings. \nRooted & Growing will feature talks from leading academics from Maynooth University\, along with psychologists and community workers in the West and Northwest\, who all promote nature connections within their work. There will be opportunities to experience workshops giving practical examples of how nature can be incorporated into clinical practice. A number of these workshops will be hosted by people with lived experience of participating in nature-based interventions. \nRooted & Growing is perfect for professionals working in health and social care settings and policy makers\, who may already be connected to nature in their work or simply nature-curious. This conference has a collaborative and experiential focus\, creating a space for discussion and development of community nature connecting in Ireland. \nThis non-profit event will take place on 29th and 30th July 2026 in Strokestown Park\, County Roscommon.The full Conference programme\, along with workshop choices\, will be available soon. All conference attendees will be notified of the final programme and workshop choices via their email provided.
URL:https://strokestownpark.ie/event/rooted-growing-conference/
ATTACH;FMTTYPE=image/png:https://strokestownpark.ie/wp-content/uploads/sites/2/2026/03/Event-Web-Images-7-1.png
END:VEVENT
END:VCALENDAR